BEGIN:VCALENDAR
VERSION:2.0
PRODID:-//ChamberMaster//Event Calendar 2.0//EN
METHOD:PUBLISH
X-PUBLISHED-TTL:P3D
REFRESH-INTERVAL:P3D
CALSCALE:GREGORIAN
BEGIN:VEVENT
DTSTART:20231020T220000Z
DTEND:20231021T003000Z
X-MICROSOFT-CDO-ALLDAYEVENT:FALSE
SUMMARY:Fish Fry - LC Sportsman's Club
DESCRIPTION:Batter fried cod\, baked potato\, onion rings\, coleslaw\, beans\, dinner roll\, coffee and sweet dessert all for $15 ($16 for takeouts). LC Sportsman's Club\, 2200 S Oak Street\, Lake City. Serving 5-7:30 or until gone.
X-ALT-DESC;FMTTYPE=text/html:Batter fried cod\, baked potato\, onion rings\, coleslaw\, beans\, dinner roll\, coffee and sweet dessert all for $15 ($16 for takeouts). LC Sportsman&#39\;s Club\, 2200 S Oak Street\, Lake City. Serving 5-7:30 or until gone.
LOCATION:LC Sportsman's Club 2200 S Oak Street Lake City
UID:e.621.9198
SEQUENCE:3
DTSTAMP:20260422T011254Z
URL:https://public.lakecity.org/events/details/fish-fry-lc-sportsman-s-club-10-20-2023-9198
END:VEVENT

END:VCALENDAR
