BEGIN:VCALENDAR
VERSION:2.0
PRODID:-//ChamberMaster//Event Calendar 2.0//EN
METHOD:PUBLISH
X-PUBLISHED-TTL:P3D
REFRESH-INTERVAL:P3D
CALSCALE:GREGORIAN
BEGIN:VEVENT
DTSTART;VALUE=DATE:20160818
DTEND;VALUE=DATE:20160819
TRANSP:TRANSPARENT
X-MICROSOFT-CDO-ALLDAYEVENT:TRUE
SUMMARY:Fishing For Eagles
DESCRIPTION:This summer at the National Eagle Center\, kids fish for free when they fish for eagles! We've got the fishing poles\, lifejackets\, bait and a dock out front. Sign out the equipment and take your kids fishing right here! Kids 15 and under can fish without a license.* Best of all they can donate their catch to feed the bald eagle ambassadors! We're offering fun for the whole family to experience all summer long\, so plan your visit to include an afternoon of Fishing for Eagles!\n\nWednesdays and Thursdays\, 10am-4pm   June 15th through September 1st!\n\n\n\nMore details: http://www.nationaleaglecenter.org/fishing-for-eagles/\n\n\n\n*Children 15 and under who are residents of Minnesota do not need a license. Non-residents need to be accompanied by a parent or guardian with a valid MN fishing license.
X-ALT-DESC;FMTTYPE=text/html:<p>This summer at the National Eagle Center\, kids fish for free when they fish for eagles! We&rsquo\;ve got the fishing poles\, lifejackets\, bait and a dock out front. Sign out the equipment and take your kids fishing right here! Kids 15 and under can fish without a license.* Best of all they can donate their catch to feed the bald eagle ambassadors! We&rsquo\;re offering fun for the whole family to experience all summer long\,&nbsp\;so plan your visit to include an afternoon of Fishing for Eagles!</p>\n\n<p><strong>Wednesdays and Thursdays\, 10am-4pm &hellip\; June 15th through September 1st!<br />\n<br />\nMore details:&nbsp\;</strong><span style="color:rgb(34\, 34\, 34)\; font-family:arial\,verdana\,sans-serif">http://www.nationaleaglecenter.org/fishing-for-eagles/</span><br />\n<br />\n<em>*Children 15 and under who are residents of&nbsp\;Minnesota&nbsp\;do not need a license. Non-residents need to be accompanied by a parent or guardian with a valid MN fishing license.</em></p>\n
LOCATION:National Eagle Center
UID:e.621.5067
SEQUENCE:3
DTSTAMP:20260422T141738Z
URL:https://public.lakecity.org/events/details/fishing-for-eagles-08-18-2016-5067
END:VEVENT

END:VCALENDAR
