BEGIN:VCALENDAR
VERSION:2.0
PRODID:-//ChamberMaster//Event Calendar 2.0//EN
METHOD:PUBLISH
X-PUBLISHED-TTL:P3D
REFRESH-INTERVAL:P3D
CALSCALE:GREGORIAN
BEGIN:VEVENT
DTSTART:20160623T140000Z
DTEND:20160627T000000Z
X-MICROSOFT-CDO-ALLDAYEVENT:FALSE
SUMMARY:Flags of Valor
DESCRIPTION:Flags will we posted starting at Ohuta Park along the river walk to the Dairy Queen. Forms are available at Fiesta Foods\, both banks\, and other locations around town. This event is sponsored by the Lake City American Legion and Auxiliary. Contact information is on the forms.
X-ALT-DESC;FMTTYPE=text/html:Flags will we posted starting at Ohuta Park along the river walk to the Dairy Queen. Forms are available at Fiesta Foods\, both banks\, and other locations around town. This event is sponsored by the Lake City American Legion and Auxiliary. Contact information is on the forms.
LOCATION:
UID:e.621.5248
SEQUENCE:3
DTSTAMP:20260422T182736Z
URL:https://public.lakecity.org/events/details/flags-of-valor-06-23-2016-5248
END:VEVENT

END:VCALENDAR
