BEGIN:VCALENDAR
VERSION:2.0
PRODID:-//ChamberMaster//Event Calendar 2.0//EN
METHOD:PUBLISH
X-PUBLISHED-TTL:P3D
REFRESH-INTERVAL:P3D
CALSCALE:GREGORIAN
BEGIN:VEVENT
DTSTART:20230812T160000Z
DTEND:20230812T200000Z
X-MICROSOFT-CDO-ALLDAYEVENT:FALSE
SUMMARY:Float-A-Palooza 2023
DESCRIPTION:Join us as we will celebrate summer and our community with Float-A-Palooza on Saturday\, August 12th from 11am - 3pm at Ohuta Beach. Bring your water mats to float\, relax and enjoy beautiful Lake Pepin. In the park we will have a kids sand dig\, music\, and fun. Huettls will have some delicious food available for purchase and Charlie's Lemonade stand will be there. If you or your business is interested in donating items for the kids sand dig or the drawing please contact Heather at 651-345-4123 or chamberevents@lakecity.org.\n\n \n\nThank you sponsors!
X-ALT-DESC;FMTTYPE=text/html:<p style="margin: 0px\; padding: 0px\; color: rgb(123\, 110\, 101)\; font-family: Arial\, Verdana\, Helvetica\, sans-serif\; font-size: 12px\; white-space: pre-wrap\;"><span style="font-size: 14px\;"><span style="font-family: arial\;"><span style="color: rgb(0\, 0\, 0)\;">Join us as we will celebrate summer and our community with Float-A-Palooza on Saturday\, August 12th from 11am - 3pm at Ohuta Beach.&nbsp\;Bring your water mats to float\, relax and enjoy beautiful Lake Pepin.&nbsp\;In the park we will have a kids sand dig\, music\, and fun. Huettls will have some delicious food available for purchase and Charlie&#39\;s Lemonade stand will be there. If you or your business is interested in donating items for the kids sand dig or the drawing please contact Heather</span><span style="color: rgb(0\, 0\, 0)\;"> at 651-345-4123 or chamberevents@lakecity.org.</span></span></span><br />\n&nbsp\;</p>\n\n<p style="margin: 0px\; padding: 0px\; color: rgb(123\, 110\, 101)\; font-family: Arial\, Verdana\, Helvetica\, sans-serif\; font-size: 12px\; white-space: pre-wrap\;"><span style="font-size: 14px\;"><span style="color: rgb(0\, 0\, 0)\;"><span style="font-family: arial\;">Thank you sponsors! </span></span></span></p>\n
LOCATION:Ohuta Park 100 Park Street Lake City\, MN 55041
UID:e.621.9167
SEQUENCE:3
DTSTAMP:20260422T034850Z
URL:https://public.lakecity.org/events/details/float-a-palooza-2023-9167
END:VEVENT

END:VCALENDAR
