BEGIN:VCALENDAR
VERSION:2.0
PRODID:-//ChamberMaster//Event Calendar 2.0//EN
METHOD:PUBLISH
X-PUBLISHED-TTL:P3D
REFRESH-INTERVAL:P3D
CALSCALE:GREGORIAN
BEGIN:VEVENT
DTSTART:20150705T030000Z
DTEND:20150705T030000Z
X-MICROSOFT-CDO-ALLDAYEVENT:FALSE
SUMMARY:Fourth of July Fireworks
DESCRIPTION:Fireworks over Lake Pepin. \n\nIf you would like to make a donation to the Fireworks\, please contact\n\nLake City Chamber of Commerce\, 101 W. Center St.\, Lake City MN 55041\n\nor call 651-345-4123.\n\nClick HERE for Sponsorship Form.
X-ALT-DESC;FMTTYPE=text/html:<div>Fireworks over Lake Pepin.&nbsp\;</div>\n\n<div>If you would like to make a donation to the Fireworks\, please contact<br />\nLake City Chamber of Commerce\, 101 W. Center St.\, Lake City MN 55041<br />\nor call 651-345-4123.<br />\n<a href="http://cloud.chambermaster.com/userfiles/UserFiles/chambers/621/File/FireworksDonationForm2015.pdf">Click HERE for Sponsorship Form.</a></div>\n
LOCATION:Ohuta Park and along Lake Pepin on Hwy. 61 N.
UID:e.621.3065
SEQUENCE:3
DTSTAMP:20260424T213239Z
URL:https://public.lakecity.org/events/details/fourth-of-july-fireworks-07-04-2015-3065
END:VEVENT

END:VCALENDAR
