BEGIN:VCALENDAR
VERSION:2.0
PRODID:-//ChamberMaster//Event Calendar 2.0//EN
METHOD:PUBLISH
X-PUBLISHED-TTL:P3D
REFRESH-INTERVAL:P3D
CALSCALE:GREGORIAN
BEGIN:VEVENT
DTSTART;VALUE=DATE:20170704
DTEND;VALUE=DATE:20170705
TRANSP:TRANSPARENT
X-MICROSOFT-CDO-ALLDAYEVENT:TRUE
SUMMARY:Fourth of July Fireworks
DESCRIPTION:View Fourth of July fireworks over gorgeous Lake Pepin!  Fireworks start at dusk.\n\n\n\nThe fireworks would not be possible without donations from local businesses and community members.  Please consider contributing toward Lake City's  firework display.
X-ALT-DESC;FMTTYPE=text/html:View Fourth of July fireworks over gorgeous Lake Pepin! &nbsp\;Fireworks start at dusk.<br />\n<br />\nThe fireworks would not be possible without donations from local businesses and community members. &nbsp\;Please consider contributing toward Lake City&#39\;s&nbsp\; firework display.
LOCATION:Lake City\, MN 55041
UID:e.621.5676
SEQUENCE:3
DTSTAMP:20260421T232911Z
URL:https://public.lakecity.org/events/details/fourth-of-july-fireworks-5676
END:VEVENT

END:VCALENDAR
