BEGIN:VCALENDAR
VERSION:2.0
PRODID:-//ChamberMaster//Event Calendar 2.0//EN
METHOD:PUBLISH
X-PUBLISHED-TTL:P3D
REFRESH-INTERVAL:P3D
CALSCALE:GREGORIAN
BEGIN:VEVENT
DTSTART:20180303T180000Z
DTEND:20180303T210000Z
X-MICROSOFT-CDO-ALLDAYEVENT:FALSE
SUMMARY:Free Family Fun Day: Opening Weekend of "Native Skywatchers"
DESCRIPTION:Enjoy the opening weekend of the temporary exhibit\, Native Skywatchers\, now on view at the Goodhue County History Center for the month of March only. Spend the afternoon exploring the exhibit for free and experience the art and creativity of this group of talented individuals. More details to be posted soon! Free admission and activities begin at 12 PM. This event is made possible through the support of Xcel Energy.
X-ALT-DESC;FMTTYPE=text/html:Enjoy the opening weekend of the temporary exhibit\, Native Skywatchers\, now on view at the Goodhue County History Center for the month of March only. Spend the afternoon exploring the exhibit for free and experience the art and creativity of this group of talented individuals. More details to be posted soon! Free admission and activities begin at 12 PM. This event is made possible through the support of Xcel Energy.
LOCATION:Goodhue County History Center 1166 Oak Street Red Wing\, MN 55066
UID:e.621.6820
SEQUENCE:3
DTSTAMP:20260421T084623Z
URL:https://public.lakecity.org/events/details/free-family-fun-day-opening-weekend-of-native-skywatchers-6820
END:VEVENT

END:VCALENDAR
