BEGIN:VCALENDAR
VERSION:2.0
PRODID:-//ChamberMaster//Event Calendar 2.0//EN
METHOD:PUBLISH
X-PUBLISHED-TTL:P3D
REFRESH-INTERVAL:P3D
CALSCALE:GREGORIAN
BEGIN:VEVENT
DTSTART:20140325T180000Z
DTEND:20140325T200000Z
X-MICROSOFT-CDO-ALLDAYEVENT:FALSE
SUMMARY:Free Workshop: Wills\, Trusts\, LLCs and More
DESCRIPTION:Avoid probate\, death taxes\, nursing home expenses and learn to transfer your farm to the next generation\, treat family members fairly and plan for your long-term care at this FREE WORKSHOP presented by Attorney Pat Lowther
X-ALT-DESC;FMTTYPE=text/html:Avoid probate\, death taxes\, nursing home expenses and learn to transfer your farm to the next generation\, treat family members fairly and plan for your long-term care at this FREE WORKSHOP presented by Attorney Pat Lowther
LOCATION:Pat Lowther Law Office 1301 N. Lakeshore Dr.\, Sutie 600 Lake City\, MN 55041
UID:e.621.3577
SEQUENCE:3
DTSTAMP:20260425T223020Z
URL:https://public.lakecity.org/events/details/free-workshop-wills-trusts-llcs-and-more-03-25-2014-3577
END:VEVENT

END:VCALENDAR
