BEGIN:VCALENDAR
VERSION:2.0
PRODID:-//ChamberMaster//Event Calendar 2.0//EN
METHOD:PUBLISH
X-PUBLISHED-TTL:P3D
REFRESH-INTERVAL:P3D
CALSCALE:GREGORIAN
BEGIN:VEVENT
DTSTART:20151204T150000Z
DTEND:20151205T220000Z
X-MICROSOFT-CDO-ALLDAYEVENT:FALSE
SUMMARY:Friends of the Lake City Public Library Holiday Used Book Sale
DESCRIPTION:The Friends of the Lake City Library will host a huge used book sale in the beautiful City Hall Ballroom! This Holiday Sale will feature Christmas themed books and specially priced gift-quality books as well as bargain priced gently-used books\, DVDs\, audio books\, puzzles and games. Come and shop for all the book-lovers on your Christmas list! Treats will be served :) A $2.00 bag sale starts Saturday at 2:00pm
X-ALT-DESC;FMTTYPE=text/html:The Friends of the Lake City Library will host a huge used book sale in the beautiful City Hall Ballroom! This Holiday Sale will feature Christmas themed books and specially priced gift-quality books as well as bargain priced gently-used books\, DVDs\, audio books\, puzzles and games. Come and shop for all the book-lovers on your Christmas list! Treats will be served :) A $2.00 bag sale starts Saturday at 2:00pm
LOCATION:City Hall Ballroom
UID:e.621.4526
SEQUENCE:3
DTSTAMP:20260424T134813Z
URL:https://public.lakecity.org/events/details/friends-of-the-lake-city-public-library-holiday-used-book-sale-12-04-2015-4526
END:VEVENT

END:VCALENDAR
