BEGIN:VCALENDAR
VERSION:2.0
PRODID:-//ChamberMaster//Event Calendar 2.0//EN
METHOD:PUBLISH
X-PUBLISHED-TTL:P3D
REFRESH-INTERVAL:P3D
CALSCALE:GREGORIAN
BEGIN:VEVENT
DTSTART:20160205T150000Z
DTEND:20160206T220000Z
X-MICROSOFT-CDO-ALLDAYEVENT:FALSE
SUMMARY:Friends of the Lake City Public Library Winterfest Used Book Sale
DESCRIPTION:Come and shop our huge selection of beautiful used books at the City Hall Ballroom in Lake City. Hours are 9am-4pm both days\, with a $2 bag sale beginning Saturday at 2pm. All proceeds benefit the Lake City Public Library. Warm up with complimentary hot cider and cookies!
X-ALT-DESC;FMTTYPE=text/html:Come and shop our huge selection of beautiful used books at the City Hall Ballroom in Lake City. Hours are 9am-4pm both days\, with a $2 bag sale beginning Saturday at 2pm. All proceeds benefit the Lake City Public Library. Warm up with complimentary hot cider and cookies!
LOCATION:City Hall Ballroom\, Lake City
UID:e.621.4540
SEQUENCE:3
DTSTAMP:20260424T120929Z
URL:https://public.lakecity.org/events/details/friends-of-the-lake-city-public-library-winterfest-used-book-sale-02-05-2016-4540
END:VEVENT

END:VCALENDAR
