BEGIN:VCALENDAR
VERSION:2.0
PRODID:-//ChamberMaster//Event Calendar 2.0//EN
METHOD:PUBLISH
X-PUBLISHED-TTL:P3D
REFRESH-INTERVAL:P3D
CALSCALE:GREGORIAN
BEGIN:VEVENT
DTSTART:20220820T140000Z
DTEND:20220820T210000Z
X-MICROSOFT-CDO-ALLDAYEVENT:FALSE
SUMMARY:Friends of the Library Book Sale
DESCRIPTION:The Lake City Friends of the Library are holding a book sale on Saturday August 20th from 9am-4pm.\n\nThis month's theme is "Westerns" and they will have an abundance of page turners from authors like William Johnstone\, BJ Daniels\, Zane Grey\, and Louis L'Amour\, as well as other selections from a variety of genres!\n\n207 S High St\n\nLake City\, MN 55041
X-ALT-DESC;FMTTYPE=text/html:<span style="color: rgb(20\, 24\, 39)\; font-family: &quot\;Helvetica Neue&quot\;\, Helvetica\, -apple-system\, BlinkMacSystemFont\, Roboto\, Arial\, sans-serif\; font-size: 18px\;">The Lake City Friends of the Library are holding a book sale on Saturday August 20th from 9am-4pm.</span><br style="box-sizing: inherit\; color: rgb(20\, 24\, 39)\; font-family: &quot\;Helvetica Neue&quot\;\, Helvetica\, -apple-system\, BlinkMacSystemFont\, Roboto\, Arial\, sans-serif\; font-size: 18px\;" />\n<span style="color: rgb(20\, 24\, 39)\; font-family: &quot\;Helvetica Neue&quot\;\, Helvetica\, -apple-system\, BlinkMacSystemFont\, Roboto\, Arial\, sans-serif\; font-size: 18px\;">This month&rsquo\;s theme is &ldquo\;Westerns&rdquo\; and they will have an abundance of page turners from authors like William Johnstone\, BJ Daniels\, Zane Grey\, and Louis L&rsquo\;Amour\, as well as other selections from a variety of genres!</span><br style="box-sizing: inherit\; color: rgb(20\, 24\, 39)\; font-family: &quot\;Helvetica Neue&quot\;\, Helvetica\, -apple-system\, BlinkMacSystemFont\, Roboto\, Arial\, sans-serif\; font-size: 18px\;" />\n<span style="color: rgb(20\, 24\, 39)\; font-family: &quot\;Helvetica Neue&quot\;\, Helvetica\, -apple-system\, BlinkMacSystemFont\, Roboto\, Arial\, sans-serif\; font-size: 18px\;">207 S High St</span><br style="box-sizing: inherit\; color: rgb(20\, 24\, 39)\; font-family: &quot\;Helvetica Neue&quot\;\, Helvetica\, -apple-system\, BlinkMacSystemFont\, Roboto\, Arial\, sans-serif\; font-size: 18px\;" />\n<span style="color: rgb(20\, 24\, 39)\; font-family: &quot\;Helvetica Neue&quot\;\, Helvetica\, -apple-system\, BlinkMacSystemFont\, Roboto\, Arial\, sans-serif\; font-size: 18px\;">Lake City\, MN 55041</span>
LOCATION:
UID:e.621.9007
SEQUENCE:3
DTSTAMP:20260423T014945Z
URL:https://public.lakecity.org/events/details/friends-of-the-library-book-sale-9007
END:VEVENT

END:VCALENDAR
