BEGIN:VCALENDAR
VERSION:2.0
PRODID:-//ChamberMaster//Event Calendar 2.0//EN
METHOD:PUBLISH
X-PUBLISHED-TTL:P3D
REFRESH-INTERVAL:P3D
CALSCALE:GREGORIAN
BEGIN:VEVENT
DTSTART:20161202T160000Z
DTEND:20161203T200000Z
X-MICROSOFT-CDO-ALLDAYEVENT:FALSE
SUMMARY:Friends of the Library Holiday Used Book Sale
DESCRIPTION:You will find Gift Quality Used Books for adults and children at the Friends of the Lake City Public Library Holiday Used Book Sale! Enjoy refreshments and live Christmas music while you shop! All proceeds benefit the Lake City Public Library.
X-ALT-DESC;FMTTYPE=text/html:You will find Gift Quality Used Books for adults and children at the Friends of the Lake City Public Library Holiday Used Book Sale! Enjoy refreshments and live Christmas music while you shop! All proceeds benefit the Lake City Public Library.
LOCATION:Lake City Public Library 201 South High Street\, Lake City
UID:e.621.5504
SEQUENCE:3
DTSTAMP:20260422T085642Z
URL:https://public.lakecity.org/events/details/friends-of-the-library-holiday-used-book-sale-5504
END:VEVENT

END:VCALENDAR
