BEGIN:VCALENDAR
VERSION:2.0
PRODID:-//ChamberMaster//Event Calendar 2.0//EN
METHOD:PUBLISH
X-PUBLISHED-TTL:P3D
REFRESH-INTERVAL:P3D
CALSCALE:GREGORIAN
BEGIN:VEVENT
DTSTART:20141004T153000Z
DTEND:20141005T193000Z
X-MICROSOFT-CDO-ALLDAYEVENT:FALSE
SUMMARY:From Clay to Bronze- Special Guest
DESCRIPTION:Celebrate the beauty of fall in the Mississippi River valley in Wabasha\, a historic river town nestled in the bluffs of southeast Minnesota. Each year\, Wabasha hosts a fall festival known as SeptOberfest which takes place mid-September and runs through October.\n\nOctober 4-5 Friday and Saturday\, 10:30am & 2:30pm - From Clay to Bronze Demo- Educator and sculptor Dan Massopust takes you from start to finish in creating life-like wildlife art.
X-ALT-DESC;FMTTYPE=text/html:<p style="margin: 0px\; padding: 0px 0px 15px\; color: rgb(0\, 0\, 0)\; line-height: 20px\; font-family: Arial\, Helvetica\, sans-serif\; font-size: 14px\;">Celebrate the beauty of fall in the Mississippi River valley in Wabasha\, a historic river town nestled in the bluffs of southeast&nbsp\;Minnesota. Each year\, Wabasha&nbsp\;hosts a fall festival known as SeptOberfest which takes place mid-September and runs through&nbsp\;October.</p>\n\n<p style="margin: 0px\; padding: 0px 0px 15px\; color: rgb(0\, 0\, 0)\; line-height: 20px\; font-family: Arial\, Helvetica\, sans-serif\; font-size: 14px\;"><strong>October 4-5</strong>&nbsp\;<em>Friday and Saturday\, 10:30am &amp\; 2:30pm</em><strong>&nbsp\;-&nbsp\;From Clay to Bronze Demo</strong>- Educator and sculptor Dan Massopust takes you from start to finish in creating life-like wildlife art.</p>\n
LOCATION:National Eagle Center
UID:e.621.4277
SEQUENCE:3
DTSTAMP:20260425T124755Z
URL:https://public.lakecity.org/events/details/from-clay-to-bronze-special-guest-10-04-2014-4277
END:VEVENT

END:VCALENDAR
