BEGIN:VCALENDAR
VERSION:2.0
PRODID:-//ChamberMaster//Event Calendar 2.0//EN
METHOD:PUBLISH
X-PUBLISHED-TTL:P3D
REFRESH-INTERVAL:P3D
CALSCALE:GREGORIAN
BEGIN:VEVENT
DTSTART;VALUE=DATE:20140208
DTEND;VALUE=DATE:20140209
TRANSP:TRANSPARENT
X-MICROSOFT-CDO-ALLDAYEVENT:TRUE
SUMMARY:Frontenac Sportsman's Club Annual Ice Fishing Contest
DESCRIPTION:30th Annual!\n\nGames\, food\, door prizes\, & monetary prizes.
X-ALT-DESC;FMTTYPE=text/html:<span style="font-family: times new roman\;"><span style="font-size: 12pt\;">30th Annual!<br />\nGames\, food\, door prizes\, &amp\; monetary prizes. </span></span><br type="_moz" />\n
LOCATION:Frontenac Pond
UID:e.621.2952
SEQUENCE:3
DTSTAMP:20260426T002822Z
URL:https://public.lakecity.org/events/details/frontenac-sportsman-s-club-annual-ice-fishing-contest-02-08-2014-2952
END:VEVENT

END:VCALENDAR
