BEGIN:VCALENDAR
VERSION:2.0
PRODID:-//ChamberMaster//Event Calendar 2.0//EN
METHOD:PUBLISH
X-PUBLISHED-TTL:P3D
REFRESH-INTERVAL:P3D
CALSCALE:GREGORIAN
BEGIN:VEVENT
DTSTART:20150913T150000Z
DTEND:20150913T163000Z
X-MICROSOFT-CDO-ALLDAYEVENT:FALSE
SUMMARY:Giggle Givers Sunday for Kids at Valley View
DESCRIPTION:The "Giggle Givers" and "In His Hand" youth ministry team will be at Valley View Assembly of God Church in Lake City for a special Children's service this Sunday September 13th.   This group of young people will bring the Bible to life\, in a fun and entertaining way\, using clowns\, puppets\, magicians and more.  Adults and teens have their own worship service and a free staffed nursery is available for children under 3.
X-ALT-DESC;FMTTYPE=text/html:The &quot\;Giggle Givers&quot\; and &quot\;In His Hand&quot\; youth ministry team will be at Valley View Assembly of God Church in Lake City for a special Children&#39\;s service this Sunday September 13th. &nbsp\; This group of young people will bring the Bible to life\, in a fun and entertaining way\, using clowns\, puppets\, magicians and more. &nbsp\;Adults and teens have their own worship service and a free staffed nursery is available for children under 3. &nbsp\;<br />\n&nbsp\;
LOCATION:305 West Grant St\, Lake City Mn
UID:e.621.4495
SEQUENCE:3
DTSTAMP:20260424T183450Z
URL:https://public.lakecity.org/events/details/giggle-givers-sunday-for-kids-at-valley-view-09-13-2015-4495
END:VEVENT

END:VCALENDAR
