BEGIN:VCALENDAR
VERSION:2.0
PRODID:-//ChamberMaster//Event Calendar 2.0//EN
METHOD:PUBLISH
X-PUBLISHED-TTL:P3D
REFRESH-INTERVAL:P3D
CALSCALE:GREGORIAN
BEGIN:VEVENT
DTSTART:20170429T150000Z
DTEND:20170429T190000Z
X-MICROSOFT-CDO-ALLDAYEVENT:FALSE
SUMMARY:Girl's Day Out Bake Sale
DESCRIPTION:The Lake City VFW Auxiliary will be holding a bake sale for Girl's Day Out on April 29th from 10 a.m. to 2 p.m. There will also be a taco lunch available from 11 a.m. to 2 p.m. Come enjoy tasty treats and support local Veteran's programs!
X-ALT-DESC;FMTTYPE=text/html:The Lake City VFW Auxiliary will be holding a bake sale for Girl&#39\;s Day Out on April 29th from 10 a.m. to 2 p.m. There will also be a taco lunch available from 11 a.m. to 2 p.m. Come enjoy tasty treats and support local Veteran&#39\;s programs!
LOCATION:Lake City VFW Auxiliary
UID:e.621.5720
SEQUENCE:3
DTSTAMP:20260422T025442Z
URL:https://public.lakecity.org/events/details/girl-s-day-out-bake-sale-5720
END:VEVENT

END:VCALENDAR
