BEGIN:VCALENDAR
VERSION:2.0
PRODID:-//ChamberMaster//Event Calendar 2.0//EN
METHOD:PUBLISH
X-PUBLISHED-TTL:P3D
REFRESH-INTERVAL:P3D
CALSCALE:GREGORIAN
BEGIN:VEVENT
DTSTART:20150425T140000Z
DTEND:20150425T220000Z
X-MICROSOFT-CDO-ALLDAYEVENT:FALSE
SUMMARY:Girls' Day Out
DESCRIPTION:Lake City's biggest day of shopping is back! Grab some girlfriends and hit the town. Celebrate YOU by visiting all of our great shops and restaurants!\n\n\n\nThis year's theme: DISCO DIVAS
X-ALT-DESC;FMTTYPE=text/html:<div style="color: gray\;"><span style="color: rgb(0\, 0\, 0)\;"><span style="font-size: 14px\;"><span style="font-family: verdana\;">Lake City&#39\;s biggest day of shopping is back! Grab some girlfriends and hit the town. Celebrate YOU by visiting all of our great shops and restaurants!<br />\n<br />\nThis year&#39\;s theme: </span></span></span><span style="color: rgb(128\, 0\, 128)\;"><span style="font-size: 14px\;"><span style="font-family: verdana\;"><span style="font-size: 18px\;"><strong>D</strong></span></span></span></span><span style="color: rgb(255\, 140\, 0)\;"><span style="font-size: 14px\;"><span style="font-family: verdana\;"><span style="font-size: 18px\;"><strong>I</strong></span></span></span></span><span style="color: rgb(204\, 51\, 102)\;"><span style="font-size: 14px\;"><span style="font-family: verdana\;"><span style="font-size: 18px\;"><strong>S</strong></span></span></span></span><span style="color: rgb(0\, 153\, 204)\;"><span style="font-size: 14px\;"><span style="font-family: verdana\;"><span style="font-size: 18px\;"><strong>C</strong></span></span></span></span><span style="color: rgb(102\, 204\, 0)\;"><span style="font-size: 14px\;"><span style="font-family: verdana\;"><span style="font-size: 18px\;"><strong>O</strong></span></span></span></span><span style="color: rgb(0\, 0\, 0)\;"><span style="font-size: 14px\;"><span style="font-family: verdana\;"><span style="font-size: 18px\;"><strong> </strong></span></span></span></span><span style="color: rgb(204\, 51\, 204)\;"><span style="font-size: 14px\;"><span style="font-family: verdana\;"><span style="font-size: 18px\;"><strong>D</strong></span></span></span></span><span style="color: rgb(204\, 204\, 0)\;"><span style="font-size: 14px\;"><span style="font-family: verdana\;"><span style="font-size: 18px\;"><strong>I</strong></span></span></span></span><span style="color: rgb(255\, 51\, 102)\;"><span style="font-size: 14px\;"><span style="font-family: verdana\;"><span style="font-size: 18px\;"><strong>V</strong></span></span></span></span><span style="color: rgb(51\, 102\, 204)\;"><span style="font-size: 14px\;"><span style="font-family: verdana\;"><span style="font-size: 18px\;"><strong>A</strong></span></span></span></span><span style="color: rgb(0\, 204\, 0)\;"><span style="font-size: 14px\;"><span style="font-family: verdana\;"><span style="font-size: 18px\;"><strong>S</strong></span></span></span></span></div>\n
LOCATION:All over town!
UID:e.621.4347
SEQUENCE:3
DTSTAMP:20260425T032440Z
URL:https://public.lakecity.org/events/details/girls-day-out-04-25-2015-4347
END:VEVENT

END:VCALENDAR
