BEGIN:VCALENDAR
VERSION:2.0
PRODID:-//ChamberMaster//Event Calendar 2.0//EN
METHOD:PUBLISH
X-PUBLISHED-TTL:P3D
REFRESH-INTERVAL:P3D
CALSCALE:GREGORIAN
BEGIN:VEVENT
DTSTART;VALUE=DATE:20140426
DTEND;VALUE=DATE:20140427
TRANSP:TRANSPARENT
X-MICROSOFT-CDO-ALLDAYEVENT:TRUE
SUMMARY:Girls' Day Out
DESCRIPTION:8th Annual Girls' Day Out - Go WILD in Lake City!\n\n\n\nClick here to print complete list of specials!\n\n\n\nThis is Lake City's biggest shopping event of the year! A fun-filled just-for-you-day of girlfriend happiness! GO WILD visiting our great shops and restaurants. Visit five or more and enter our drawings for prizes totaling over $800!\n\n\n\nVisit Girls' Day Out on Facebook
X-ALT-DESC;FMTTYPE=text/html:8th Annual Girls&#39\; Day Out - Go WILD in Lake City!<br />\n<br />\n<a href="http://cloud.chambermaster.com/userfiles/UserFiles/chambers/621/File/GDO2014StampCard.docx">Click here to print complete list of specials!</a><br />\n<br />\nThis is Lake City&#39\;s biggest shopping event of the year! A fun-filled just-for-you-day of girlfriend happiness! GO WILD visiting our great shops and restaurants. Visit five or more and enter our drawings for prizes totaling over $800!<br />\n<br />\n<a href="http://www.facebook.com/events/767063706640090/">Visit Girls&#39\; Day Out on Facebook</a>
LOCATION:All over town!
UID:e.621.3439
SEQUENCE:3
DTSTAMP:20260425T210141Z
URL:https://public.lakecity.org/events/details/girls-day-out-04-26-2014-3439
END:VEVENT

END:VCALENDAR
