BEGIN:VCALENDAR
VERSION:2.0
PRODID:-//ChamberMaster//Event Calendar 2.0//EN
METHOD:PUBLISH
X-PUBLISHED-TTL:P3D
REFRESH-INTERVAL:P3D
CALSCALE:GREGORIAN
BEGIN:VEVENT
DTSTART:20140727T150000Z
DTEND:20140727T200000Z
X-MICROSOFT-CDO-ALLDAYEVENT:FALSE
SUMMARY:Go Sailing for Leukemia
DESCRIPTION:18th Annual Go Sailing for Leukemia! \n\nSponsored by the Lake City Yacht Club\n\n \n\nPre-Registration:  Begins July 9th\n\nOnline:  http://www.lakecityyachtclub.com\n\nPhone:  Lake City Marina  651-345-4211
X-ALT-DESC;FMTTYPE=text/html:<div>18th Annual Go Sailing for Leukemia!&nbsp\;</div>\n\n<div>Sponsored by the Lake City Yacht Club</div>\n\n<div>&nbsp\;</div>\n\n<div><u>Pre-Registration:&nbsp\; Begins <strong>July 9th</strong></u></div>\n\n<div>Online:&nbsp\; <a href="http://www.lakecityyachtclub.com">http://www.lakecityyachtclub.com</a></div>\n\n<div>Phone:&nbsp\; Lake City Marina&nbsp\; 651-345-4211</div>\n
LOCATION:Lake City Marina\, Lake City\, MN
UID:e.621.4038
SEQUENCE:3
DTSTAMP:20260425T155526Z
URL:https://public.lakecity.org/events/details/go-sailing-for-leukemia-07-27-2014-4038
END:VEVENT

END:VCALENDAR
