BEGIN:VCALENDAR
VERSION:2.0
PRODID:-//ChamberMaster//Event Calendar 2.0//EN
METHOD:PUBLISH
X-PUBLISHED-TTL:P3D
REFRESH-INTERVAL:P3D
CALSCALE:GREGORIAN
BEGIN:VEVENT
DTSTART:20170427T223000Z
DTEND:20170427T233000Z
X-MICROSOFT-CDO-ALLDAYEVENT:FALSE
SUMMARY:Google Seminar
DESCRIPTION:Putting Lake City on the Map: understanding how to update Google Maps and other on-line sites. Presented by Dean Kaartinen from Creative Minds. Tues.\, Feb. 28 from 5:30   6:30 pm Lake City City Hall - 2nd Floor Conference Room Produced by the Lake City Chamber and EDA
X-ALT-DESC;FMTTYPE=text/html:Putting Lake City on the Map: understanding how to update Google Maps and other on-line sites. Presented by Dean Kaartinen from Creative Minds. Tues.\, Feb. 28 from 5:30 &ndash\; 6:30 pm Lake City City Hall - 2nd Floor Conference Room Produced by the Lake City Chamber and EDA
LOCATION:
UID:e.621.5659
SEQUENCE:3
DTSTAMP:20260422T041157Z
URL:https://public.lakecity.org/events/details/google-seminar-5659
END:VEVENT

END:VCALENDAR
