BEGIN:VCALENDAR
VERSION:2.0
PRODID:-//ChamberMaster//Event Calendar 2.0//EN
METHOD:PUBLISH
X-PUBLISHED-TTL:P3D
REFRESH-INTERVAL:P3D
CALSCALE:GREGORIAN
BEGIN:VEVENT
DTSTART:20160206T150000Z
DTEND:20160206T180000Z
X-MICROSOFT-CDO-ALLDAYEVENT:FALSE
SUMMARY:Grand Opening of the Friends of the Lake City Public Library Used Book Store!
DESCRIPTION:Come and visit the ALL NEW Friends of the Lake City Public Library Used Book Store! We have a beautiful selection of the most current used books at great prices. Fiction\, non-fiction\, and children's books all in great condition in the gorgeous new library!
X-ALT-DESC;FMTTYPE=text/html:Come and visit the ALL NEW Friends of the Lake City Public Library Used Book Store! We have a beautiful selection of the most current used books at great prices. Fiction\, non-fiction\, and children&#39\;s books all in great condition in the gorgeous new library!
LOCATION:The Lake City Public Library
UID:e.621.4541
SEQUENCE:3
DTSTAMP:20260424T104122Z
URL:https://public.lakecity.org/events/details/grand-opening-of-the-friends-of-the-lake-city-public-library-used-book-store-02-06-2016-4541
END:VEVENT

END:VCALENDAR
