BEGIN:VCALENDAR
VERSION:2.0
PRODID:-//ChamberMaster//Event Calendar 2.0//EN
METHOD:PUBLISH
X-PUBLISHED-TTL:P3D
REFRESH-INTERVAL:P3D
CALSCALE:GREGORIAN
BEGIN:VEVENT
DTSTART;VALUE=DATE:20131207
DTEND;VALUE=DATE:20131208
TRANSP:TRANSPARENT
X-MICROSOFT-CDO-ALLDAYEVENT:TRUE
SUMMARY:Grand Re-Opening!
DESCRIPTION:Join us the Pickle Factory for our grand re-opening! Enjoy live music in the evening\, a free prize to all customers\, and Santa will be here with treats for all.\n\n\n\nThe remodeled Pickle Factory has the same quality food and service but a brand new look!.
X-ALT-DESC;FMTTYPE=text/html:<span style="color:black\;"><span style="font-family:times new roman\,serif\;"><span style="font-size:12.0pt\;">Join us the Pickle Factory for our grand re-opening! Enjoy live music in the evening\, a free prize to all customers\, and Santa will be here with treats for all.<br />\n<br />\nThe remodeled Pickle Factory has the same quality food and service but a brand new look!.</span></span></span>
LOCATION:Located at 205 First St in Pepin\, WI.
UID:e.621.3412
SEQUENCE:3
DTSTAMP:20260426T042735Z
URL:https://public.lakecity.org/events/details/grand-re-opening-12-07-2013-3412
END:VEVENT

END:VCALENDAR
