BEGIN:VCALENDAR
VERSION:2.0
PRODID:-//ChamberMaster//Event Calendar 2.0//EN
METHOD:PUBLISH
X-PUBLISHED-TTL:P3D
REFRESH-INTERVAL:P3D
CALSCALE:GREGORIAN
BEGIN:VEVENT
DTSTART:20140613T193000Z
DTEND:20140614T030000Z
X-MICROSOFT-CDO-ALLDAYEVENT:FALSE
SUMMARY:Great River Homes\, Inc. Benefit Golf Tournament & Dinner
DESCRIPTION:23rd Annual\n\nGreat River Homes\, Inc.\n\nBenefit Golf Tournament & Dinner
X-ALT-DESC;FMTTYPE=text/html:23rd Annual<br />\nGreat River Homes\, Inc.<br />\nBenefit Golf Tournament &amp\; Dinner
LOCATION:The Jewel Golf Club
UID:e.621.4033
SEQUENCE:3
DTSTAMP:20260425T172839Z
URL:https://public.lakecity.org/events/details/great-river-homes-inc-benefit-golf-tournament-dinner-06-13-2014-4033
END:VEVENT

END:VCALENDAR
