BEGIN:VCALENDAR
VERSION:2.0
PRODID:-//ChamberMaster//Event Calendar 2.0//EN
METHOD:PUBLISH
X-PUBLISHED-TTL:P3D
REFRESH-INTERVAL:P3D
CALSCALE:GREGORIAN
BEGIN:VEVENT
DTSTART:20151031T000000Z
DTEND:20151031T045500Z
X-MICROSOFT-CDO-ALLDAYEVENT:FALSE
SUMMARY:Halloween BASH
DESCRIPTION:Halloween Bash\n\nBenefit for Lake Pepin Interpretive Center\n\nPresented by Creative Minds
X-ALT-DESC;FMTTYPE=text/html:Halloween Bash<br />\nBenefit for Lake Pepin Interpretive Center<br />\nPresented by Creative Minds
LOCATION:Lake City Sportsmans Club
UID:e.621.4503
SEQUENCE:3
DTSTAMP:20260424T165533Z
URL:https://public.lakecity.org/events/details/halloween-bash-10-30-2015-4503
END:VEVENT

END:VCALENDAR
