BEGIN:VCALENDAR
VERSION:2.0
PRODID:-//ChamberMaster//Event Calendar 2.0//EN
METHOD:PUBLISH
X-PUBLISHED-TTL:P3D
REFRESH-INTERVAL:P3D
CALSCALE:GREGORIAN
BEGIN:VEVENT
DTSTART:20141025T160000Z
DTEND:20141025T160000Z
X-MICROSOFT-CDO-ALLDAYEVENT:FALSE
SUMMARY:Harvest Festival on the Farm
DESCRIPTION:Free Music by Tim Kriese (weather permitting)\n\nFarm Fresh Meals ($9-10)\n\nTour the farm: See baby piglets\, chicks\, pigs\, turkeys\, humanely raised!\n\nPurchase healthy food\, organic produce\, frozen pork\, whole frozen chickens.\n\nFun Activities: Apple cider pressing\, bonfire\, and more!\n\nPoster Click Here
X-ALT-DESC;FMTTYPE=text/html:Free Music by Tim Kriese (weather permitting)<br />\nFarm Fresh Meals ($9-10)<br />\nTour the farm: See baby piglets\, chicks\, pigs\, turkeys\, humanely raised!<br />\nPurchase healthy food\, organic produce\, frozen pork\, whole frozen chickens.<br />\nFun Activities: Apple cider pressing\, bonfire\, and more!<br />\n<a href="http://cloud.chambermaster.com/userfiles/UserFiles/chambers/621/File/scan0010.jpg">Poster Click Here</a>
LOCATION:Lake City Catholic Worker Farm 33292 Goodhue Cty. 5 Blvd. Lake City\, MN 55041
UID:e.621.4307
SEQUENCE:3
DTSTAMP:20260425T125233Z
URL:https://public.lakecity.org/events/details/harvest-festival-on-the-farm-10-25-2014-4307
END:VEVENT

END:VCALENDAR
