BEGIN:VCALENDAR
VERSION:2.0
PRODID:-//ChamberMaster//Event Calendar 2.0//EN
METHOD:PUBLISH
X-PUBLISHED-TTL:P3D
REFRESH-INTERVAL:P3D
CALSCALE:GREGORIAN
BEGIN:VEVENT
DTSTART:20160422T150000Z
DTEND:20160424T220000Z
X-MICROSOFT-CDO-ALLDAYEVENT:FALSE
SUMMARY:Hatch Day
DESCRIPTION:Eagles in our area typically hatch around the third week of April. Since we're not sure exactly when our eagle ambassadors hatched\, we use April 22nd\, or Earth Day\, as our eagles' hatch day. On that day\, they each get a year older and we celebrate with special programs and enrichment activities. Celebrate our eagles' Hatch Day! Stop in an enjoy Hatch Day cupcakes and complimentary white pine seedlings (while supplies last)\, special guest programs and more!
X-ALT-DESC;FMTTYPE=text/html:<p>Eagles in our area typically hatch around the third week of April. Since we&rsquo\;re not sure exactly when our eagle ambassadors hatched\, we use April 22nd\, or Earth Day\, as our eagles&rsquo\; hatch day. On that day\, they each get a year older and we celebrate with special programs and enrichment activities.&nbsp\;Celebrate our eagles&#39\; Hatch Day! Stop in an enjoy Hatch Day cupcakes and complimentary white pine seedlings (while supplies last)\, special guest programs and more!&nbsp\;</p>\n
LOCATION:National Eagle Center
UID:e.621.4416
SEQUENCE:3
DTSTAMP:20260422T195644Z
URL:https://public.lakecity.org/events/details/hatch-day-04-22-2016-4416
END:VEVENT

END:VCALENDAR
