BEGIN:VCALENDAR
VERSION:2.0
PRODID:-//ChamberMaster//Event Calendar 2.0//EN
METHOD:PUBLISH
X-PUBLISHED-TTL:P3D
REFRESH-INTERVAL:P3D
CALSCALE:GREGORIAN
BEGIN:VEVENT
DTSTART:20171027T230000Z
DTEND:20171028T040000Z
X-MICROSOFT-CDO-ALLDAYEVENT:FALSE
SUMMARY:Haunted House in Lake City
DESCRIPTION:Haunted House sponsored by the Lake City Area Arts
X-ALT-DESC;FMTTYPE=text/html:Haunted House sponsored by the Lake City Area Arts
LOCATION:Lake City Area Arts Building 220 East Chestnut St Lake City\, MN 55041 (across from tennis courts)
UID:e.621.6776
SEQUENCE:3
DTSTAMP:20260421T170531Z
URL:https://public.lakecity.org/events/details/haunted-house-in-lake-city-6776
END:VEVENT

END:VCALENDAR
