BEGIN:VCALENDAR
VERSION:2.0
PRODID:-//ChamberMaster//Event Calendar 2.0//EN
METHOD:PUBLISH
X-PUBLISHED-TTL:P3D
REFRESH-INTERVAL:P3D
CALSCALE:GREGORIAN
BEGIN:VEVENT
DTSTART:20141005T180000Z
DTEND:20141005T220000Z
X-MICROSOFT-CDO-ALLDAYEVENT:FALSE
SUMMARY:Hazelnut Capital Celebration Day
DESCRIPTION:Hazelnut Capitol Celebration Day\n\nFeaturing Hazelnut Valley Farm Open House
X-ALT-DESC;FMTTYPE=text/html:Hazelnut Capitol Celebration Day<br />\nFeaturing Hazelnut Valley Farm Open House
LOCATION:520 S. Oak Lake City MN
UID:e.621.4257
SEQUENCE:3
DTSTAMP:20260425T124454Z
URL:https://public.lakecity.org/events/details/hazelnut-capital-celebration-day-10-05-2014-4257
END:VEVENT

END:VCALENDAR
