BEGIN:VCALENDAR
VERSION:2.0
PRODID:-//ChamberMaster//Event Calendar 2.0//EN
METHOD:PUBLISH
X-PUBLISHED-TTL:P3D
REFRESH-INTERVAL:P3D
CALSCALE:GREGORIAN
BEGIN:VEVENT
DTSTART:20140628T153000Z
DTEND:20140628T193000Z
X-MICROSOFT-CDO-ALLDAYEVENT:FALSE
SUMMARY:Historical Society brings Twain\, Samuelson to Life
DESCRIPTION:Lake City Historical Society produces entertaining portrayals of notable Mississippi River and Lake City characters Ralph Samuelson and Mark Twain.  Historical Society produced DVDs will also be shown.\n\nClick HERE for complete details.
X-ALT-DESC;FMTTYPE=text/html:Lake City Historical Society&nbsp\;produces entertaining portrayals of notable&nbsp\;Mississippi&nbsp\;River and Lake City characters Ralph Samuelson and Mark Twain. &nbsp\;Historical Society produced&nbsp\;DVDs will also be shown.<br />\nClick <a href="http://cloud.chambermaster.com/userfiles/UserFiles/chambers/621/File/WSDSamuelsonTwain.pdf">HERE</a> for complete details.
LOCATION:St.Mark's Episcopal Church Fellowship Hall Adjacent to Patton Park
UID:e.621.3580
SEQUENCE:3
DTSTAMP:20260425T172527Z
URL:https://public.lakecity.org/events/details/historical-society-brings-twain-samuelson-to-life-06-28-2014-3580
END:VEVENT

END:VCALENDAR
