BEGIN:VCALENDAR
VERSION:2.0
PRODID:-//ChamberMaster//Event Calendar 2.0//EN
METHOD:PUBLISH
X-PUBLISHED-TTL:P3D
REFRESH-INTERVAL:P3D
CALSCALE:GREGORIAN
BEGIN:VEVENT
DTSTART:20140717T000000Z
DTEND:20140717T020000Z
X-MICROSOFT-CDO-ALLDAYEVENT:FALSE
SUMMARY:Hold onto Faith!
DESCRIPTION:Hold onto Faith!\n\nFr. Richard McAlear\, Missionary Oblate of Mary Immaculate\, International Ministry of Hope and Healing\n\n"Renew\, celebrate\, and deepen your faith in Jesus Christ!"\n\nClick HERE for complete information.
X-ALT-DESC;FMTTYPE=text/html:Hold onto Faith!<br />\nFr. Richard McAlear\, Missionary Oblate of Mary Immaculate\, International Ministry of Hope and Healing<br />\n&quot\;Renew\, celebrate\, and deepen your faith in Jesus Christ!&quot\;<br />\nClick <a href="http://cloud.chambermaster.com/userfiles/UserFiles/chambers/621/File/scan00012.jpg">HERE</a> for complete information.
LOCATION:St. Mary of the Lake Catholic Church 419 W. Lyon Ave.\, Lake City\, MN 55041
UID:e.621.4039
SEQUENCE:3
DTSTAMP:20260425T155747Z
URL:https://public.lakecity.org/events/details/hold-onto-faith-07-16-2014-4039
END:VEVENT

END:VCALENDAR
