BEGIN:VCALENDAR
VERSION:2.0
PRODID:-//ChamberMaster//Event Calendar 2.0//EN
METHOD:PUBLISH
X-PUBLISHED-TTL:P3D
REFRESH-INTERVAL:P3D
CALSCALE:GREGORIAN
BEGIN:VEVENT
DTSTART:20140619T000000Z
DTEND:20140619T020000Z
X-MICROSOFT-CDO-ALLDAYEVENT:FALSE
SUMMARY:Hold Onto Hope! A Story of Faith\, Hope\, and Foregiveness
DESCRIPTION:Hold Onto Hope\n\nRwandan genocide survivor\, Immaculee Ilibagiza\n\nA Story of Faith\, Hope\, and Foregiveness\n\nEvent Poster
X-ALT-DESC;FMTTYPE=text/html:Hold Onto Hope<br />\nRwandan genocide survivor\, Immaculee Ilibagiza<br />\nA Story of Faith\, Hope\, and Foregiveness<br />\n<a href="http://cloud.chambermaster.com/userfiles/UserFiles/chambers/621/File/scan0002.jpg">Event Poster</a><br />\n<br />\n&nbsp\;
LOCATION:St. Mary of the Lake Catholic Church 419 W. Lyon Ave. Lake City\, MN 55041
UID:e.621.4006
SEQUENCE:3
DTSTAMP:20260425T173250Z
URL:https://public.lakecity.org/events/details/hold-onto-hope-a-story-of-faith-hope-and-foregiveness-06-18-2014-4006
END:VEVENT

END:VCALENDAR
