BEGIN:VCALENDAR
VERSION:2.0
PRODID:-//ChamberMaster//Event Calendar 2.0//EN
METHOD:PUBLISH
X-PUBLISHED-TTL:P3D
REFRESH-INTERVAL:P3D
CALSCALE:GREGORIAN
BEGIN:VEVENT
DTSTART:20151205T150000Z
DTEND:20151205T210000Z
X-MICROSOFT-CDO-ALLDAYEVENT:FALSE
SUMMARY:Holiday Bake Sale and Craft Fair
DESCRIPTION:Holiday bake sale and craft fair at the Lake City Sportsman's Club. Huge selection of homemade Christmas treats\, numerous crafters showcasing their talents\, as well as some gently used Christmas items for sale. Light lunch available 11:00 - 1:00.
X-ALT-DESC;FMTTYPE=text/html:Holiday bake sale and craft fair at the Lake City Sportsman&#39\;s Club. Huge selection of homemade Christmas treats\, numerous crafters showcasing their talents\, as well as some gently used Christmas items for sale. Light lunch available 11:00 - 1:00.
LOCATION:Lake City Sportsman's Club\, 2200 South Oak Street\, Lake City MN
UID:e.621.4522
SEQUENCE:3
DTSTAMP:20260424T134533Z
URL:https://public.lakecity.org/events/details/holiday-bake-sale-and-craft-fair-12-05-2015-4522
END:VEVENT

END:VCALENDAR
