BEGIN:VCALENDAR
VERSION:2.0
PRODID:-//ChamberMaster//Event Calendar 2.0//EN
METHOD:PUBLISH
X-PUBLISHED-TTL:P3D
REFRESH-INTERVAL:P3D
CALSCALE:GREGORIAN
BEGIN:VEVENT
DTSTART:20131207T150000Z
DTEND:20131207T190000Z
X-MICROSOFT-CDO-ALLDAYEVENT:FALSE
SUMMARY:Holiday Bake Sale and Gently Used Holiday Decor Sale
DESCRIPTION:A huge selection of freshly baked cookies\, candies\, breads\, pies and other holiday treats made by Lake City Sportsman's Club members and friends will be available for sale to the general public. A large selection of gently used holiday decorations will also be for sale. Everyone welcome.
X-ALT-DESC;FMTTYPE=text/html:A huge selection of freshly baked cookies\, candies\, breads\, pies and other holiday treats made by Lake City Sportsman&#39\;s Club members and friends will be available for sale to the general public. A large selection of gently used holiday decorations will also be for sale. Everyone welcome. 
LOCATION:Lake City Sportsman's Club 2200 South Oak Street Lake City MN
UID:e.621.3411
SEQUENCE:3
DTSTAMP:20260426T043213Z
URL:https://public.lakecity.org/events/details/holiday-bake-sale-and-gently-used-holiday-decor-sale-12-07-2013-3411
END:VEVENT

END:VCALENDAR
