BEGIN:VCALENDAR
VERSION:2.0
PRODID:-//ChamberMaster//Event Calendar 2.0//EN
METHOD:PUBLISH
X-PUBLISHED-TTL:P3D
REFRESH-INTERVAL:P3D
CALSCALE:GREGORIAN
BEGIN:VEVENT
DTSTART:20151121T150000Z
DTEND:20151121T150000Z
X-MICROSOFT-CDO-ALLDAYEVENT:FALSE
SUMMARY:Holiday Bazaar
DESCRIPTION:Holiday Bazaar\n\nCraft & Bake Sale \n\nVendor Merchandise
X-ALT-DESC;FMTTYPE=text/html:Holiday Bazaar<br />\nCraft &amp\; Bake Sale&nbsp\;<br />\nVendor Merchandise
LOCATION:VFW Auxiliary Post 8729
UID:e.621.4501
SEQUENCE:3
DTSTAMP:20260424T152157Z
URL:https://public.lakecity.org/events/details/holiday-bazaar-11-21-2015-4501
END:VEVENT

END:VCALENDAR
