BEGIN:VCALENDAR
VERSION:2.0
PRODID:-//ChamberMaster//Event Calendar 2.0//EN
METHOD:PUBLISH
X-PUBLISHED-TTL:P3D
REFRESH-INTERVAL:P3D
CALSCALE:GREGORIAN
BEGIN:VEVENT
DTSTART:20151120T160000Z
DTEND:20151121T220000Z
X-MICROSOFT-CDO-ALLDAYEVENT:FALSE
SUMMARY:Holiday Craft and Bake Sale
DESCRIPTION:Holiday Craft and Bake Sale
X-ALT-DESC;FMTTYPE=text/html:Holiday Craft and Bake Sale
LOCATION:Masonic Building (above Remax) 101 W. Lyon Ave. (elevator) there is also a stairway entrance on S. Lakeshore Dr.
UID:e.621.4524
SEQUENCE:3
DTSTAMP:20260424T152923Z
URL:https://public.lakecity.org/events/details/holiday-craft-and-bake-sale-11-20-2015-4524
END:VEVENT

END:VCALENDAR
