BEGIN:VCALENDAR
VERSION:2.0
PRODID:-//ChamberMaster//Event Calendar 2.0//EN
METHOD:PUBLISH
X-PUBLISHED-TTL:P3D
REFRESH-INTERVAL:P3D
CALSCALE:GREGORIAN
BEGIN:VEVENT
DTSTART:20161203T150000Z
DTEND:20161203T221500Z
X-MICROSOFT-CDO-ALLDAYEVENT:FALSE
SUMMARY:Holiday Home Tour and Teas
DESCRIPTION:The Holiday Home Tour includes 4 beautiful homes-3 historic and 1 modern condo on the lake. Tour tickets are being sold for specific start times\, from 9 to 4:15. Each ticket is $20. The Holiday Teas are taking place in 3 lovely homes\, a Victorian\, a modern\, and a coastal theme. Fabulous place settings and high tea with all the wonderful goodies! Following tea you will get a tour of that home. Tea tickets are $25. Tickets are available at Treats and Treasures or 651-345-2882. This event is a fundraiser for the Lake Pepin Interpretive Centre. Tickets are non-refundable.
X-ALT-DESC;FMTTYPE=text/html:The Holiday Home Tour includes 4 beautiful homes-3 historic and 1 modern condo on the lake. Tour tickets are being sold for specific start times\, from 9 to 4:15. Each ticket is $20. The Holiday Teas are taking place in 3 lovely homes\, a Victorian\, a modern\, and a coastal theme. Fabulous place settings and high tea with all the wonderful goodies! Following tea you will get a tour of that home. Tea tickets are $25. Tickets are available at Treats and Treasures or 651-345-2882. This event is a fundraiser for the Lake Pepin Interpretive Centre. Tickets are non-refundable.
LOCATION:Lake City\, MN
UID:e.621.5643
SEQUENCE:3
DTSTAMP:20260422T084802Z
URL:https://public.lakecity.org/events/details/holiday-home-tour-and-teas-5643
END:VEVENT

END:VCALENDAR
