BEGIN:VCALENDAR
VERSION:2.0
PRODID:-//ChamberMaster//Event Calendar 2.0//EN
METHOD:PUBLISH
X-PUBLISHED-TTL:P3D
REFRESH-INTERVAL:P3D
CALSCALE:GREGORIAN
BEGIN:VEVENT
DTSTART:20131212T024500Z
DTEND:20131212T033000Z
X-MICROSOFT-CDO-ALLDAYEVENT:FALSE
SUMMARY:Holiday Train
DESCRIPTION:The Canadian Pacific Railway Holiday Train will visit Lake City on Wednesday\, December 11th at 8:45pm. The train stops at Hearth & Home Technologies and entertainers will delight the crowd with music performed from the train stage and Santa will visit children in the crowd. This event is a fundraiser for the Lake City Food Shelf. Come and enjoy a fun evening and support the local food shelf with your food and cash donations.
X-ALT-DESC;FMTTYPE=text/html:The Canadian Pacific Railway Holiday Train will visit Lake City on&nbsp\;Wednesday\, December 11th&nbsp\;at 8:45pm. The train stops at Hearth &amp\; Home Technologies and entertainers will delight the crowd with music performed from the train stage and Santa will visit children in the crowd. This event is a fundraiser for the Lake City Food Shelf. Come and enjoy a fun evening and support the local food shelf with your food and cash donations.
LOCATION:Hearth & Home Technologies\, 800 W. Jefferson\, Lake City\, MN 55041
UID:e.621.3413
SEQUENCE:3
DTSTAMP:20260426T042621Z
URL:https://public.lakecity.org/events/details/holiday-train-12-11-2013-3413
END:VEVENT

END:VCALENDAR
