BEGIN:VCALENDAR
VERSION:2.0
PRODID:-//ChamberMaster//Event Calendar 2.0//EN
METHOD:PUBLISH
X-PUBLISHED-TTL:P3D
REFRESH-INTERVAL:P3D
CALSCALE:GREGORIAN
BEGIN:VEVENT
DTSTART:20220205T150000Z
DTEND:20220205T160000Z
X-MICROSOFT-CDO-ALLDAYEVENT:FALSE
SUMMARY:Holy Yoga Faith & Fitness
DESCRIPTION:Lake City Area Arts\n\nJoin us for this 6 week Gentle series that starts Saturdays in January 2022.  9 a.m. January 8- February 12.  Bring a mat and water bottle and arrive 15 minutes early.  Coed and non denominational. No experience needed. $10 per class. Please contact instructor AnneMarie Kjelland at amkjelland@gmail.com or 651-345-4511.
X-ALT-DESC;FMTTYPE=text/html:<span id="docs-internal-guid-fc430b52-7fff-fd38-5987-bbf5a0d9a67c"><span style="font-size: 10pt\; font-family: Arial\; color: rgb(5\, 5\, 5)\; background-color: transparent\; font-variant-numeric: normal\; font-variant-east-asian: normal\; vertical-align: baseline\; white-space: pre-wrap\;"><u><strong>Lake City Area Arts</strong></u><br />\nJoin us for this 6 week Gentle series that starts Saturdays in January 2022.&nbsp\; 9 a.m. January 8- February 12.&nbsp\; Bring a mat and water bottle and arrive 15 minutes early.&nbsp\; Coed and non denominational. No experience needed. $10 per class. Please contact instructor AnneMarie Kjelland at </span><a href="mailto:amkjelland@gmail.com" style="text-decoration-line: none\;"><span style="font-size: 10pt\; font-family: Arial\; color: rgb(17\, 85\, 204)\; background-color: transparent\; font-variant-numeric: normal\; font-variant-east-asian: normal\; text-decoration-line: underline\; text-decoration-skip-ink: none\; vertical-align: baseline\; white-space: pre-wrap\;">amkjelland@gmail.com</span></a><span style="font-size: 10pt\; font-family: Arial\; color: rgb(5\, 5\, 5)\; background-color: transparent\; font-variant-numeric: normal\; font-variant-east-asian: normal\; vertical-align: baseline\; white-space: pre-wrap\;"> or 651-345-4511.</span></span>
LOCATION:
UID:e.621.8503
SEQUENCE:3
DTSTAMP:20260422T191320Z
URL:https://public.lakecity.org/events/details/holy-yoga-faith-fitness-02-05-2022-8503
END:VEVENT

END:VCALENDAR
