BEGIN:VCALENDAR
VERSION:2.0
PRODID:-//ChamberMaster//Event Calendar 2.0//EN
METHOD:PUBLISH
X-PUBLISHED-TTL:P3D
REFRESH-INTERVAL:P3D
CALSCALE:GREGORIAN
BEGIN:VEVENT
DTSTART:20160219T210000Z
DTEND:20160220T170000Z
X-MICROSOFT-CDO-ALLDAYEVENT:FALSE
SUMMARY:Hot Deals at the Villa for February!
DESCRIPTION:Check Out the Fabulous Winter Getaway Package Deals at the Villa for Feb. 19-20 and also Feb. 26-27. $50 per person (one night stay) plus $15 per person for Friday night dinner and Saturday breakfast. Check-in is 3-5 pm and Check-out is 11:00 am. Total package deal is $65 per person plus tax. Come and snowshoe\, hike\, walk\, cross-country ski. Frontenac State Park is connected with the Villa and has snowshoe rental of $6 dollars a day. Call ahead to make sure they
X-ALT-DESC;FMTTYPE=text/html:Check Out the Fabulous Winter Getaway Package Deals at the Villa for Feb. 19-20 and also Feb. 26-27. $50 per person (one night stay) plus $15 per person for Friday night dinner and Saturday breakfast. Check-in is 3-5 pm and Check-out is 11:00 am. Total package deal is $65 per person plus tax. Come and snowshoe\, hike\, walk\, cross-country ski. Frontenac State Park is connected with the Villa and has snowshoe rental of $6 dollars a day. Call ahead to make sure they
LOCATION:Villa Maria Retreat & Conference Center 29847 County 2 Blvd. Frontenac\, MN 55026
UID:e.621.4552
SEQUENCE:3
DTSTAMP:20260424T120806Z
URL:https://public.lakecity.org/events/details/hot-deals-at-the-villa-for-february-02-19-2016-4552
END:VEVENT

END:VCALENDAR
