BEGIN:VCALENDAR
VERSION:2.0
PRODID:-//ChamberMaster//Event Calendar 2.0//EN
METHOD:PUBLISH
X-PUBLISHED-TTL:P3D
REFRESH-INTERVAL:P3D
CALSCALE:GREGORIAN
BEGIN:VEVENT
DTSTART:20160226T210000Z
DTEND:20160227T170000Z
X-MICROSOFT-CDO-ALLDAYEVENT:FALSE
SUMMARY:Hot Deals at the Villa for February!
DESCRIPTION:Check Out the Fabulous Winter Getaway Package Deals for February 26-27. $50 per person (one night stay) plus $15 per person for Friday night dinner and Saturday breakfast. Total package deal: $65 per person plus tax. Snowshoe\, Hike\, Walk\, Cross Country Ski Frontenac State Park connects with the Villa and has groomed trails. Snowshoe rental is $6 a day at the Park. Call ahead of time at 651-345-3401.
X-ALT-DESC;FMTTYPE=text/html:Check Out the Fabulous Winter Getaway Package Deals for February 26-27. $50 per person (one night stay) plus $15 per person for Friday night dinner and Saturday breakfast. Total package deal: $65 per person plus tax. Snowshoe\, Hike\, Walk\, Cross Country Ski Frontenac State Park connects with the Villa and has groomed trails. Snowshoe rental is $6 a day at the Park. Call ahead of time at 651-345-3401.
LOCATION:Villa Maria Retreat and Conference Center 29847 County 2 Blvd. Frontenac\, MN 55026
UID:e.621.4553
SEQUENCE:3
DTSTAMP:20260424T103934Z
URL:https://public.lakecity.org/events/details/hot-deals-at-the-villa-for-february-02-26-2016-4553
END:VEVENT

END:VCALENDAR
