BEGIN:VCALENDAR
VERSION:2.0
PRODID:-//ChamberMaster//Event Calendar 2.0//EN
METHOD:PUBLISH
X-PUBLISHED-TTL:P3D
REFRESH-INTERVAL:P3D
CALSCALE:GREGORIAN
BEGIN:VEVENT
DTSTART:20161201T180000Z
DTEND:20170420T170000Z
X-MICROSOFT-CDO-ALLDAYEVENT:FALSE
SUMMARY:Hot Reads for Cold Nights
DESCRIPTION:Hot Reads for Cold Nights is an adult reading program at the Lake City Public Library. Registration for the program begins Thursday\, December 1st. The first 23 people to come into the library to sign up will get a free Hot Reads for Cold Nights Mug and a black LCPL book bag. Multiple copies of Casey's books are available a the LCPL\; however\, electronic copies are not available through SELCO. Both paper and electronic copies are available for purchase at Amazon.com.
X-ALT-DESC;FMTTYPE=text/html:Hot Reads for Cold Nights is an adult reading program at the Lake City Public Library. Registration for the program begins Thursday\, December 1st. The first 23 people to come into the library to sign up will get a free Hot Reads for Cold Nights Mug and a black LCPL book bag. Multiple copies of Casey&rsquo\;s books are available a the LCPL\; however\, electronic copies are not available through SELCO. Both paper and electronic copies are available for purchase at Amazon.com.
LOCATION:Lake City Public Library 201 South High Street Lake City\, MN
UID:e.621.5507
SEQUENCE:3
DTSTAMP:20260422T025041Z
URL:https://public.lakecity.org/events/details/hot-reads-for-cold-nights-5507
END:VEVENT

END:VCALENDAR
