BEGIN:VCALENDAR
VERSION:2.0
PRODID:-//ChamberMaster//Event Calendar 2.0//EN
METHOD:PUBLISH
X-PUBLISHED-TTL:P3D
REFRESH-INTERVAL:P3D
CALSCALE:GREGORIAN
BEGIN:VEVENT
DTSTART:20161011T220000Z
DTEND:20161012T000000Z
X-MICROSOFT-CDO-ALLDAYEVENT:FALSE
SUMMARY:How-to Tuesday: How to download an e-book
DESCRIPTION:This mini presentation will help community members learn how to download books to their electronic devices.
X-ALT-DESC;FMTTYPE=text/html:This mini presentation will help community members learn how to download books to their electronic devices.
LOCATION:Lake City Public Library
UID:e.621.5470
SEQUENCE:3
DTSTAMP:20260422T115239Z
URL:https://public.lakecity.org/events/details/how-to-tuesday-how-to-download-an-e-book-5470
END:VEVENT

END:VCALENDAR
