BEGIN:VCALENDAR
VERSION:2.0
PRODID:-//ChamberMaster//Event Calendar 2.0//EN
METHOD:PUBLISH
X-PUBLISHED-TTL:P3D
REFRESH-INTERVAL:P3D
CALSCALE:GREGORIAN
BEGIN:VEVENT
DTSTART:20160927T220000Z
DTEND:20160928T000000Z
X-MICROSOFT-CDO-ALLDAYEVENT:FALSE
SUMMARY:How-to Tuesday: How to obtain an enhanced driver's license and ID card
DESCRIPTION:Next Tuesday\, September 27\, the Lake City Public Library will present information on how to obtain enhanced driver's licenses and identification cards\, which are both federally approved border crossing documents. Mini presentations will take place at 5:00\, 5:30\, 6:00\, and 6:30. NOTE: The 6:30 presentation will include an interpreter for Spanish-speaking members of our community.
X-ALT-DESC;FMTTYPE=text/html:Next Tuesday\, September 27\, the Lake City Public Library will present information on how to obtain enhanced driver&#39\;s licenses and identification cards\, which are both federally approved border crossing documents. Mini presentations will take place at 5:00\, 5:30\, 6:00\, and 6:30. NOTE: The 6:30 presentation will include an interpreter for Spanish-speaking members of our community.
LOCATION:Lake City Public Library
UID:e.621.5463
SEQUENCE:3
DTSTAMP:20260422T132222Z
URL:https://public.lakecity.org/events/details/how-to-tuesday-how-to-obtain-an-enhanced-driver-s-license-and-id-card-5463
END:VEVENT

END:VCALENDAR
