BEGIN:VCALENDAR
VERSION:2.0
PRODID:-//ChamberMaster//Event Calendar 2.0//EN
METHOD:PUBLISH
X-PUBLISHED-TTL:P3D
REFRESH-INTERVAL:P3D
CALSCALE:GREGORIAN
BEGIN:VEVENT
DTSTART:20161004T220000Z
DTEND:20161005T000000Z
X-MICROSOFT-CDO-ALLDAYEVENT:FALSE
SUMMARY:How-to Tuesday: How to read a nutrition label
DESCRIPTION:Learn how to read a nutrition label correctly for healthier eating and living.
X-ALT-DESC;FMTTYPE=text/html:Learn how to read a nutrition label correctly for healthier eating and living.
LOCATION:Lake City Public Library
UID:e.621.5469
SEQUENCE:3
DTSTAMP:20260422T115240Z
URL:https://public.lakecity.org/events/details/how-to-tuesday-how-to-read-a-nutrition-label-5469
END:VEVENT

END:VCALENDAR
