BEGIN:VCALENDAR
VERSION:2.0
PRODID:-//ChamberMaster//Event Calendar 2.0//EN
METHOD:PUBLISH
X-PUBLISHED-TTL:P3D
REFRESH-INTERVAL:P3D
CALSCALE:GREGORIAN
BEGIN:VEVENT
DTSTART:20170801T170000Z
DTEND:20170801T180000Z
X-MICROSOFT-CDO-ALLDAYEVENT:FALSE
SUMMARY:HRA/HSA Informational Meeting for Businesses
DESCRIPTION:Please join us for a free presentation on Health Reimbursement Arrangement (HRA) on Tuesday\, August 1 from 12 p.m. to 1 p.m. in the Chamber Conference Room. Chuck Larson\, of ConCorp Financial\, will conduct this presentation focusing on how HRA's can fit into an employer's business plan even if they do not offer medical insurance.
X-ALT-DESC;FMTTYPE=text/html:Please join us for a free presentation on Health Reimbursement Arrangement (HRA) on Tuesday\, August 1 from 12 p.m. to 1 p.m. in the Chamber Conference Room. Chuck Larson\, of ConCorp Financial\, will conduct this presentation focusing on how HRA&rsquo\;s can fit into an employer&#39\;s business plan even if they do not offer medical insurance.
LOCATION:Lake City Chamber of Commerce 101 W. Center St. Lake City\, MN 55041
UID:e.621.5751
SEQUENCE:3
DTSTAMP:20260421T202907Z
URL:https://public.lakecity.org/events/details/hra-hsa-informational-meeting-for-businesses-5751
END:VEVENT

END:VCALENDAR
