BEGIN:VCALENDAR
VERSION:2.0
PRODID:-//ChamberMaster//Event Calendar 2.0//EN
METHOD:PUBLISH
X-PUBLISHED-TTL:P3D
REFRESH-INTERVAL:P3D
CALSCALE:GREGORIAN
BEGIN:VEVENT
DTSTART:20160206T210000Z
DTEND:20160206T230000Z
X-MICROSOFT-CDO-ALLDAYEVENT:FALSE
SUMMARY:Human Foosball Tournament
DESCRIPTION:The Chamber of Commerce is hosting a Human Foosball Tournament from 3:00pm to 5:00pm on Saturday February 6th during WinterFest.  Each team consists of six players.  Contact the Chamber of Commerce to register at (651) 345-4123 or chamberevents@lakecity.org.  Two teams of six will compete.  Each game is 10 minutes.  The team with the highest score will move on to the next round.  The winner will receive $50 in Chamber Bucks!!
X-ALT-DESC;FMTTYPE=text/html:<span style="font-size: 12px\;"><span style="font-family: arial\;">The Chamber of Commerce is hosting a Human Foosball Tournament from 3:00pm to 5:00pm on Saturday February 6<sup>th</sup> during WinterFest.&nbsp\; Each team consists of six players.&nbsp\; Contact the Chamber of Commerce to register at (651) 345-4123 or <a href="mailto:chamberevents@lakecity.org"><span style="color: rgb(0\, 0\, 255)\;">chamberevents@lakecity.org</span></a>.&nbsp\; Two teams of six will compete.&nbsp\; Each game is 10 minutes.&nbsp\; The team with the highest score will move on to the next round.&nbsp\; The winner will receive $50 in Chamber Bucks!!</span></span><br />\n<br />\n&nbsp\;
LOCATION:Lot near the Lake City Fire Department.
UID:e.621.4509
SEQUENCE:3
DTSTAMP:20260424T103516Z
URL:https://public.lakecity.org/events/details/human-foosball-tournament-02-06-2016-4509
END:VEVENT

END:VCALENDAR
