BEGIN:VCALENDAR
VERSION:2.0
PRODID:-//ChamberMaster//Event Calendar 2.0//EN
METHOD:PUBLISH
X-PUBLISHED-TTL:P3D
REFRESH-INTERVAL:P3D
CALSCALE:GREGORIAN
BEGIN:VEVENT
DTSTART:20131207T150000Z
DTEND:20131207T210000Z
X-MICROSOFT-CDO-ALLDAYEVENT:FALSE
SUMMARY:Indoor garage sale and flea market
DESCRIPTION:Fourteen vendor booths of garage sale and flea market items.  Bake sale and holiday d cor sale also in the lower level.   Doors open at 9:00
X-ALT-DESC;FMTTYPE=text/html:<span style="color:#1f497d\;">Fourteen vendor booths of garage sale and flea market items. &nbsp\;Bake sale and holiday d&eacute\;cor sale also in the lower level.&nbsp\; &nbsp\;Doors open at 9:00</span>
LOCATION:Lake City Sportsman's Club
UID:e.621.3404
SEQUENCE:3
DTSTAMP:20260426T042919Z
URL:https://public.lakecity.org/events/details/indoor-garage-sale-and-flea-market-12-07-2013-3404
END:VEVENT

END:VCALENDAR
