BEGIN:VCALENDAR
VERSION:2.0
PRODID:-//ChamberMaster//Event Calendar 2.0//EN
METHOD:PUBLISH
X-PUBLISHED-TTL:P3D
REFRESH-INTERVAL:P3D
CALSCALE:GREGORIAN
BEGIN:VEVENT
DTSTART:20150711T190000Z
DTEND:20150711T200000Z
X-MICROSOFT-CDO-ALLDAYEVENT:FALSE
SUMMARY:Insects of the Prairie
DESCRIPTION:Prairies are teeming with life\, often unseen. Explore the prairie at Frontenac State Park to discover what is living among the flowers\, stems and leaves. This family-friendly hike lead by Nadine Meyer\, Assistant Park Manager\, will include insect investigation and collection\, tools are provided. We will be practicing catch & release! Be sure to wear sturdy shoes (no flip-fops)\, sunscreen\, and long pants are recommended. This program is hosted by the Frontenac State Park Association.
X-ALT-DESC;FMTTYPE=text/html:Prairies are teeming with life\, often unseen. Explore the prairie at Frontenac State Park to discover what is living among the flowers\, stems and leaves. This family-friendly hike lead by Nadine Meyer\, Assistant Park Manager\, will include insect investigation and collection\, tools are provided. We will be practicing catch &amp\; release! Be sure to wear sturdy shoes (no flip-fops)\, sunscreen\, and long pants are recommended. This program is hosted by the Frontenac State Park Association.
LOCATION:Frontenac State Park\, meet at the Park Ranger Station.
UID:e.621.4467
SEQUENCE:3
DTSTAMP:20260424T213440Z
URL:https://public.lakecity.org/events/details/insects-of-the-prairie-07-11-2015-4467
END:VEVENT

END:VCALENDAR
