BEGIN:VCALENDAR
VERSION:2.0
PRODID:-//ChamberMaster//Event Calendar 2.0//EN
METHOD:PUBLISH
X-PUBLISHED-TTL:P3D
REFRESH-INTERVAL:P3D
CALSCALE:GREGORIAN
BEGIN:VEVENT
DTSTART;VALUE=DATE:20150210
DTEND;VALUE=DATE:20150401
TRANSP:TRANSPARENT
X-MICROSOFT-CDO-ALLDAYEVENT:TRUE
SUMMARY:Insty's Go Red Specials!
DESCRIPTION:February specials include:\n\n	Buy 1\,000 envelopes\, get 250 free.  OR\, buy 2\,000 envelopes and get 500 free!
X-ALT-DESC;FMTTYPE=text/html:February specials include:\n<ul>\n	<li>Buy 1\,000 envelopes\, get 250 free.&nbsp\; OR\, buy 2\,000 envelopes and get 500 free!</li>\n</ul>\n
LOCATION:
UID:e.621.4361
SEQUENCE:3
DTSTAMP:20260425T032728Z
URL:https://public.lakecity.org/events/details/insty-s-go-red-specials-02-10-2015-4361
END:VEVENT

END:VCALENDAR
