BEGIN:VCALENDAR
VERSION:2.0
PRODID:-//ChamberMaster//Event Calendar 2.0//EN
METHOD:PUBLISH
X-PUBLISHED-TTL:P3D
REFRESH-INTERVAL:P3D
CALSCALE:GREGORIAN
BEGIN:VEVENT
DTSTART:20150409T233000Z
DTEND:20150410T010000Z
X-MICROSOFT-CDO-ALLDAYEVENT:FALSE
SUMMARY:Introductory Course in Mindfulness
DESCRIPTION:This introductory mindfulness course is a two part course facilitated by Betsy Witt at the Villa Maria Retreat and Conference Center in Frontenac. Dates are April 9th and 16th from 6: 30 p.m. - 8:00 p.m.
X-ALT-DESC;FMTTYPE=text/html:This introductory mindfulness course is a two part course facilitated by Betsy Witt at the Villa Maria Retreat and Conference Center in Frontenac. Dates are April 9th and 16th from 6: 30 p.m. - 8:00 p.m.
LOCATION:Villa Maria Retreat and Conference Center.
UID:e.621.4391
SEQUENCE:3
DTSTAMP:20260425T014610Z
URL:https://public.lakecity.org/events/details/introductory-course-in-mindfulness-04-09-2015-4391
END:VEVENT

END:VCALENDAR
